BEGIN:VCALENDAR
VERSION:2.0
PRODID:-//Global Educational Recruitment Company - ECPv6.15.3//NONSGML v1.0//EN
CALSCALE:GREGORIAN
METHOD:PUBLISH
X-WR-CALNAME:Global Educational Recruitment Company
X-ORIGINAL-URL:https://gerclink.com
X-WR-CALDESC:Events for Global Educational Recruitment Company
REFRESH-INTERVAL;VALUE=DURATION:PT1H
X-Robots-Tag:noindex
X-PUBLISHED-TTL:PT1H
BEGIN:VTIMEZONE
TZID:Africa/Maputo
BEGIN:STANDARD
TZOFFSETFROM:+0200
TZOFFSETTO:+0200
TZNAME:CAT
DTSTART:20240101T000000
END:STANDARD
END:VTIMEZONE
BEGIN:VEVENT
DTSTART;TZID=Africa/Maputo:20240525T083000
DTEND;TZID=Africa/Maputo:20240525T160000
DTSTAMP:20260420T032910
CREATED:20240515T194403Z
LAST-MODIFIED:20240521T212613Z
UID:1126-1716625800-1716652800@gerclink.com
SUMMARY:Estudar no Exterior Feira Educacional-Maputo
DESCRIPTION:Marque no seu calendário! Feira de Educação GERC Study Abroad- Cidade de Maputo\, ENTRADA LIVRE! \n📅 Data: sábado\, 25 de maio de 2024\n🕣 Horário: 08h30 às 16h\n📍 Localização: Pensao Martins\, Av.24 de Julho\, Nº: 1098\, Maputo\, Moçambique. \nVocê está pronto para embarcar em uma emocionante jornada educacional no exterior? Junte-se a nós na Feira de Educação GERC Study Abroad e explore um mundo de oportunidades! \n Você que sonha em estudar na China\, Índia\, Malásia\, Chipre\, Espanha\, Turquia\, Hungria\, EUA ou qualquer outro destino\, esta é sua chance de aprender sobre: \n✈️ Destinos de estudo disponíveis\n🎓 Oportunidades de bolsas de estudo\n📋 Consulta de visto e voo\n📝 Documentos necessários\n📚 Processo de inscrição passo a passo\n🏠 Serviços pós-chegada \nDeixe-nos ajudá-lo a transformar suas aspirações educacionais em realidade! Traga um amigo e aproveite ao máximo este evento enriquecedor. \nPara dúvidas ou assistência\, entre em contato conosco em:\n📞 Ligue: 876966675 / 856840309\n💬 WhatsApp: +260777144351\n📧 E-mail: globalstudy@gerclink.com \nENTRADA LIVRE! Não perca esta incrível oportunidade de iniciar sua jornada educacional internacional. \nVejo você lá!\nClique abaixo para confirmar presença👇
URL:https://gerclink.com/event/gercstudyabroadfair/
LOCATION:Pensao Martins\, Av.24 de Julho\, No: 1098\, Maputo\, Maputo\, Mozambique
ORGANIZER;CN="Global Educational Recruitment Company Ltd":MAILTO:globalstudy@gerclink.com
END:VEVENT
END:VCALENDAR